BEGIN:VCALENDAR
VERSION:2.0
PRODID:-//Sälinkään kartanoseura ry. - ECPv6.15.20//NONSGML v1.0//EN
CALSCALE:GREGORIAN
METHOD:PUBLISH
X-WR-CALNAME:Sälinkään kartanoseura ry.
X-ORIGINAL-URL:https://salinkaankartano.fi
X-WR-CALDESC:Tapahtumat Sälinkään kartanoseura ry.
REFRESH-INTERVAL;VALUE=DURATION:PT1H
X-Robots-Tag:noindex
X-PUBLISHED-TTL:PT1H
BEGIN:VTIMEZONE
TZID:Europe/Helsinki
BEGIN:DAYLIGHT
TZOFFSETFROM:+0200
TZOFFSETTO:+0300
TZNAME:EEST
DTSTART:20250330T010000
END:DAYLIGHT
BEGIN:STANDARD
TZOFFSETFROM:+0300
TZOFFSETTO:+0200
TZNAME:EET
DTSTART:20251026T010000
END:STANDARD
BEGIN:DAYLIGHT
TZOFFSETFROM:+0200
TZOFFSETTO:+0300
TZNAME:EEST
DTSTART:20260329T010000
END:DAYLIGHT
BEGIN:STANDARD
TZOFFSETFROM:+0300
TZOFFSETTO:+0200
TZNAME:EET
DTSTART:20261025T010000
END:STANDARD
BEGIN:DAYLIGHT
TZOFFSETFROM:+0200
TZOFFSETTO:+0300
TZNAME:EEST
DTSTART:20270328T010000
END:DAYLIGHT
BEGIN:STANDARD
TZOFFSETFROM:+0300
TZOFFSETTO:+0200
TZNAME:EET
DTSTART:20271031T010000
END:STANDARD
END:VTIMEZONE
BEGIN:VEVENT
DTSTART;VALUE=DATE:20260328
DTEND;VALUE=DATE:20260329
DTSTAMP:20260420T205328
CREATED:20260312T081452Z
LAST-MODIFIED:20260312T081452Z
UID:2987-1774656000-1774742399@salinkaankartano.fi
SUMMARY:Yksityistilaisuus 28.3.2026
DESCRIPTION:
URL:https://salinkaankartano.fi/tapahtumat/yksityistilaisuus-18-2-3/
CATEGORIES:Yksityistilaisuus
END:VEVENT
BEGIN:VEVENT
DTSTART;TZID=Europe/Helsinki:20260329T110000
DTEND;TZID=Europe/Helsinki:20260329T130000
DTSTAMP:20260420T205328
CREATED:20260325T162722Z
LAST-MODIFIED:20260325T163748Z
UID:3011-1774782000-1774789200@salinkaankartano.fi
SUMMARY:Palmusunnuntai -tapahtuma 29.3.2026
DESCRIPTION:Tervetuloa viettämään koko perheen voimin Palmusunnuntaita Sälinkään Kartanolle sunnuntaina 29.3.2026 klo 11-13!  \nPihalla poniratsastusta\, vaahtokarkkien paistoa\, pääsiäismunien etsintään\, ongintaa jne. Varaathan mukaasi käteistä ostoksia varten. Kartanolla myynnissä pientä purtavaa. 
URL:https://salinkaankartano.fi/tapahtumat/palmusunnuntaitapahtuma-29-3-2026/
CATEGORIES:Avoimet tapahtumat Sälinkään kartanolla
ORGANIZER;CN="S%C3%A4link%C3%A4%C3%A4n Kartano / S%C3%A4link%C3%A4%C3%A4n Kartanoseura ry":MAILTO:info@salinkaankartano.fi
END:VEVENT
BEGIN:VEVENT
DTSTART;TZID=Europe/Helsinki:20260415T143000
DTEND;TZID=Europe/Helsinki:20260415T163000
DTSTAMP:20260420T205328
CREATED:20260307T163941Z
LAST-MODIFIED:20260307T191523Z
UID:2940-1776263400-1776270600@salinkaankartano.fi
SUMMARY:Kyläkerho ikäihmisille 15.4.2026
DESCRIPTION:Mäntsälän kunnan järjestämä\, senioreille avoin kyläkerho kokoontuu Sälinkään kartanolla \nkeskiviikkona 15.4.2026 klo 14.30-16.30. \nLisätietoja: Mäntsälän seniorityö
URL:https://salinkaankartano.fi/tapahtumat/kylakerho-ikaihmiset-2/
CATEGORIES:Avoimet tapahtumat Sälinkään kartanolla
END:VEVENT
BEGIN:VEVENT
DTSTART;TZID=Europe/Helsinki:20260520T143000
DTEND;TZID=Europe/Helsinki:20260520T163000
DTSTAMP:20260420T205328
CREATED:20260307T163341Z
LAST-MODIFIED:20260307T191700Z
UID:2933-1779287400-1779294600@salinkaankartano.fi
SUMMARY:Kyläkerho ikäihmisille 20.5.2026
DESCRIPTION:Mäntsälän kunnan järjestämä\, senioreille avoin kyläkerho kokoontuu Sälinkään kartanolla \nkeskiviikkona 20.5.2026 klo 14.30-16.30. \nLisätietoja: Mäntsälän seniorityö
URL:https://salinkaankartano.fi/tapahtumat/kylakerho-ikaihmiset-2-2/
CATEGORIES:Avoimet tapahtumat Sälinkään kartanolla
END:VEVENT
BEGIN:VEVENT
DTSTART;VALUE=DATE:20260530
DTEND;VALUE=DATE:20260531
DTSTAMP:20260420T205328
CREATED:20260307T173236Z
LAST-MODIFIED:20260307T192838Z
UID:2957-1780099200-1780185599@salinkaankartano.fi
SUMMARY:Yksityistilaisuus 30.5.2026
DESCRIPTION:
URL:https://salinkaankartano.fi/tapahtumat/yksityistilaisuus-18-2/
CATEGORIES:Yksityistilaisuus
END:VEVENT
BEGIN:VEVENT
DTSTART;VALUE=DATE:20260801
DTEND;VALUE=DATE:20260802
DTSTAMP:20260420T205328
CREATED:20260307T173653Z
LAST-MODIFIED:20260307T191847Z
UID:2963-1785542400-1785628799@salinkaankartano.fi
SUMMARY:Yksityistilaisuus 1.8.2026
DESCRIPTION:
URL:https://salinkaankartano.fi/tapahtumat/yksityistilaisuus-18-2-2-2/
CATEGORIES:Yksityistilaisuus
END:VEVENT
BEGIN:VEVENT
DTSTART;TZID=Europe/Helsinki:20260919T100000
DTEND;TZID=Europe/Helsinki:20260919T140000
DTSTAMP:20260420T205328
CREATED:20260306T114750Z
LAST-MODIFIED:20260412T180058Z
UID:2901-1789812000-1789826400@salinkaankartano.fi
SUMMARY:Torpparihulinat 19.9.2026
DESCRIPTION:Perinteiset Torpparihulinat järjestetään Sälinkään Kartanon alueella lauantaina 19.9.2026. \nPihatorilla kaikenlaista maalaishenkeen sopivaa myyntiä\, ohjelmaa\, tapahtumaa yms. \nTervetuloa! \nJos olet kiinnostunut myyntipisteestä tai osallistumisesta tapahtuman järjestelyihin muutoin\, ota yhteyttä: 0400 612 575 tai sähköpostitse info@salinkaankartano.fi
URL:https://salinkaankartano.fi/tapahtumat/torpparihulinat-19-9-2026/
CATEGORIES:Avoimet tapahtumat Sälinkään kartanolla
ATTACH;FMTTYPE=image/jpeg:https://salinkaankartano.fi/wordpress/wp-content/uploads/IMG_8230-scaled.jpg
ORGANIZER;CN="S%C3%A4link%C3%A4%C3%A4n Kartano / S%C3%A4link%C3%A4%C3%A4n Kartanoseura ry":MAILTO:info@salinkaankartano.fi
END:VEVENT
END:VCALENDAR