BEGIN:VCALENDAR
VERSION:2.0
PRODID:-//Sälinkään kartanoseura ry. - ECPv6.15.20//NONSGML v1.0//EN
CALSCALE:GREGORIAN
METHOD:PUBLISH
X-ORIGINAL-URL:https://salinkaankartano.fi
X-WR-CALDESC:Tapahtumat Sälinkään kartanoseura ry.
REFRESH-INTERVAL;VALUE=DURATION:PT1H
X-Robots-Tag:noindex
X-PUBLISHED-TTL:PT1H
BEGIN:VTIMEZONE
TZID:Europe/Helsinki
BEGIN:DAYLIGHT
TZOFFSETFROM:+0200
TZOFFSETTO:+0300
TZNAME:EEST
DTSTART:20210328T010000
END:DAYLIGHT
BEGIN:STANDARD
TZOFFSETFROM:+0300
TZOFFSETTO:+0200
TZNAME:EET
DTSTART:20211031T010000
END:STANDARD
BEGIN:DAYLIGHT
TZOFFSETFROM:+0200
TZOFFSETTO:+0300
TZNAME:EEST
DTSTART:20220327T010000
END:DAYLIGHT
BEGIN:STANDARD
TZOFFSETFROM:+0300
TZOFFSETTO:+0200
TZNAME:EET
DTSTART:20221030T010000
END:STANDARD
BEGIN:DAYLIGHT
TZOFFSETFROM:+0200
TZOFFSETTO:+0300
TZNAME:EEST
DTSTART:20230326T010000
END:DAYLIGHT
BEGIN:STANDARD
TZOFFSETFROM:+0300
TZOFFSETTO:+0200
TZNAME:EET
DTSTART:20231029T010000
END:STANDARD
END:VTIMEZONE
BEGIN:VEVENT
DTSTART;TZID=Europe/Helsinki:20221126T180000
DTEND;TZID=Europe/Helsinki:20221127T010000
DTSTAMP:20260423T052654
CREATED:20220915T115629Z
LAST-MODIFIED:20221110T153752Z
UID:2391-1669485600-1669510800@salinkaankartano.fi
SUMMARY:Ysäridisco\, DJ Jones!
DESCRIPTION:Kartanolla palataan ysärin kuumimpiin hitteihin! Suosikit 90-luvulta soittaa DJ Jones\, paikalla n. klo 19-24.  \nTule porukalla tamppaamaan lattia jiiriin!  \nLiput ovelta 10 €/hlö \n 
URL:https://salinkaankartano.fi/tapahtumat/ysaridisco-dj-jones/
LOCATION:Sälinkään Kartano\, Kartanontie 20\, Sälinkää (Mäntsälä)
CATEGORIES:Avoimet tapahtumat Sälinkään kartanolla
ATTACH;FMTTYPE=image/jpeg:https://salinkaankartano.fi/wordpress/wp-content/uploads/Kasetti_C-kasetti_disco_retro.jpg
ORGANIZER;CN="S%C3%A4link%C3%A4%C3%A4n Kartano / S%C3%A4link%C3%A4%C3%A4n Kartanoseura ry":MAILTO:info@salinkaankartano.fi
END:VEVENT
END:VCALENDAR