BEGIN:VCALENDAR
VERSION:2.0
PRODID:-//Sälinkään kartanoseura ry. - ECPv6.15.20//NONSGML v1.0//EN
CALSCALE:GREGORIAN
METHOD:PUBLISH
X-WR-CALNAME:Sälinkään kartanoseura ry.
X-ORIGINAL-URL:https://salinkaankartano.fi
X-WR-CALDESC:Tapahtumat Sälinkään kartanoseura ry.
REFRESH-INTERVAL;VALUE=DURATION:PT1H
X-Robots-Tag:noindex
X-PUBLISHED-TTL:PT1H
BEGIN:VTIMEZONE
TZID:Europe/Helsinki
BEGIN:DAYLIGHT
TZOFFSETFROM:+0200
TZOFFSETTO:+0300
TZNAME:EEST
DTSTART:20220327T010000
END:DAYLIGHT
BEGIN:STANDARD
TZOFFSETFROM:+0300
TZOFFSETTO:+0200
TZNAME:EET
DTSTART:20221030T010000
END:STANDARD
BEGIN:DAYLIGHT
TZOFFSETFROM:+0200
TZOFFSETTO:+0300
TZNAME:EEST
DTSTART:20230326T010000
END:DAYLIGHT
BEGIN:STANDARD
TZOFFSETFROM:+0300
TZOFFSETTO:+0200
TZNAME:EET
DTSTART:20231029T010000
END:STANDARD
BEGIN:DAYLIGHT
TZOFFSETFROM:+0200
TZOFFSETTO:+0300
TZNAME:EEST
DTSTART:20240331T010000
END:DAYLIGHT
BEGIN:STANDARD
TZOFFSETFROM:+0300
TZOFFSETTO:+0200
TZNAME:EET
DTSTART:20241027T010000
END:STANDARD
END:VTIMEZONE
BEGIN:VEVENT
DTSTART;TZID=Europe/Helsinki:20230211T100000
DTEND;TZID=Europe/Helsinki:20230211T170000
DTSTAMP:20260423T011338
CREATED:20220915T115222Z
LAST-MODIFIED:20221110T154028Z
UID:2389-1676109600-1676134800@salinkaankartano.fi
SUMMARY:Sahtikurssi
DESCRIPTION:Tule opettelemaan sahdin tekoa! Osallistumalla tälle sahtikurssille opit tekemään oman sahtivierteen ja valmista sahtia. Saat kurssilta mukaan 1-2 litraa itse tekemääsi sahtivierrettä Pyrimme saamaan kurssille tarjolle valmista sahtia maisteltavaksi\, myös kartanon ravintolan olutta on tarjolla. \nKurssi toteutuu jos osallistujia on vähintään 5 henkilöä. Tapahtuman sujuvan läpiviennin takia rajoitamme maksimiosallistujamäärän noin 12-14 henkeen. \nPäivämäärä ja kellonajat tarkentuvat\, seuraa sivua!
URL:https://salinkaankartano.fi/tapahtumat/sahtikurssi/
LOCATION:Sälinkään Kartano\, Kartanontie 20\, Sälinkää (Mäntsälä)
CATEGORIES:Avoimet tapahtumat Sälinkään kartanolla
ATTACH;FMTTYPE=image/jpeg:https://salinkaankartano.fi/wordpress/wp-content/uploads/Kolpakko_olut_sahti.jpg
ORGANIZER;CN="S%C3%A4link%C3%A4%C3%A4n Kartano / S%C3%A4link%C3%A4%C3%A4n Kartanoseura ry":MAILTO:info@salinkaankartano.fi
END:VEVENT
END:VCALENDAR