BEGIN:VCALENDAR
VERSION:2.0
PRODID:-//Sälinkään kartanoseura ry. - ECPv6.15.20//NONSGML v1.0//EN
CALSCALE:GREGORIAN
METHOD:PUBLISH
X-ORIGINAL-URL:https://salinkaankartano.fi
X-WR-CALDESC:Tapahtumat Sälinkään kartanoseura ry.
REFRESH-INTERVAL;VALUE=DURATION:PT1H
X-Robots-Tag:noindex
X-PUBLISHED-TTL:PT1H
BEGIN:VTIMEZONE
TZID:Europe/Helsinki
BEGIN:DAYLIGHT
TZOFFSETFROM:+0200
TZOFFSETTO:+0300
TZNAME:EEST
DTSTART:20230326T010000
END:DAYLIGHT
BEGIN:STANDARD
TZOFFSETFROM:+0300
TZOFFSETTO:+0200
TZNAME:EET
DTSTART:20231029T010000
END:STANDARD
BEGIN:DAYLIGHT
TZOFFSETFROM:+0200
TZOFFSETTO:+0300
TZNAME:EEST
DTSTART:20240331T010000
END:DAYLIGHT
BEGIN:STANDARD
TZOFFSETFROM:+0300
TZOFFSETTO:+0200
TZNAME:EET
DTSTART:20241027T010000
END:STANDARD
BEGIN:DAYLIGHT
TZOFFSETFROM:+0200
TZOFFSETTO:+0300
TZNAME:EEST
DTSTART:20250330T010000
END:DAYLIGHT
BEGIN:STANDARD
TZOFFSETFROM:+0300
TZOFFSETTO:+0200
TZNAME:EET
DTSTART:20251026T010000
END:STANDARD
END:VTIMEZONE
BEGIN:VEVENT
DTSTART;TZID=Europe/Helsinki:20240506T173000
DTEND;TZID=Europe/Helsinki:20240506T203000
DTSTAMP:20260422T025227
CREATED:20240415T171723Z
LAST-MODIFIED:20240415T171834Z
UID:2592-1715016600-1715027400@salinkaankartano.fi
SUMMARY:Pihatalkoot Sälinkään Kartanolla
DESCRIPTION:Tervetuloa talkoisiin Sälinkään Kartanolle. Laitetaan pihamaata kuntoon kesää varten\, haravoimme ja siistimme aluetta talven jäljiltä. \nTapahtuma on kaikille avoin. Mukaan reipasta mieltä\, oma harava tai muu sopiva työkalu vaikkapa pensaiden trimmaamiseen. \nLähde rohkeasti liikkeelle raikkaaseen järvimaisemaan. Vaikkei kaikki talkoohommat sinulta ehkä onnistuisikaan\, tule vaikkapa tutustumaan Kartanon toimintaan ja juttelemaan kartanon aktiivien ja muiden talkoolaisten kanssa. 
URL:https://salinkaankartano.fi/tapahtumat/pihatalkoot-salinkaan-kartanolla/
LOCATION:Sälinkään Kartano\, Kartanontie 20\, Sälinkää (Mäntsälä)
CATEGORIES:Avoimet tapahtumat Sälinkään kartanolla
ORGANIZER;CN="S%C3%A4link%C3%A4%C3%A4n Kartano / S%C3%A4link%C3%A4%C3%A4n Kartanoseura ry":MAILTO:info@salinkaankartano.fi
END:VEVENT
END:VCALENDAR