BEGIN:VCALENDAR
VERSION:2.0
PRODID:-//Sälinkään kartanoseura ry. - ECPv6.15.20//NONSGML v1.0//EN
CALSCALE:GREGORIAN
METHOD:PUBLISH
X-WR-CALNAME:Sälinkään kartanoseura ry.
X-ORIGINAL-URL:https://salinkaankartano.fi
X-WR-CALDESC:Tapahtumat Sälinkään kartanoseura ry.
REFRESH-INTERVAL;VALUE=DURATION:PT1H
X-Robots-Tag:noindex
X-PUBLISHED-TTL:PT1H
BEGIN:VTIMEZONE
TZID:Europe/Helsinki
BEGIN:DAYLIGHT
TZOFFSETFROM:+0200
TZOFFSETTO:+0300
TZNAME:EEST
DTSTART:20230326T010000
END:DAYLIGHT
BEGIN:STANDARD
TZOFFSETFROM:+0300
TZOFFSETTO:+0200
TZNAME:EET
DTSTART:20231029T010000
END:STANDARD
BEGIN:DAYLIGHT
TZOFFSETFROM:+0200
TZOFFSETTO:+0300
TZNAME:EEST
DTSTART:20240331T010000
END:DAYLIGHT
BEGIN:STANDARD
TZOFFSETFROM:+0300
TZOFFSETTO:+0200
TZNAME:EET
DTSTART:20241027T010000
END:STANDARD
BEGIN:DAYLIGHT
TZOFFSETFROM:+0200
TZOFFSETTO:+0300
TZNAME:EEST
DTSTART:20250330T010000
END:DAYLIGHT
BEGIN:STANDARD
TZOFFSETFROM:+0300
TZOFFSETTO:+0200
TZNAME:EET
DTSTART:20251026T010000
END:STANDARD
END:VTIMEZONE
BEGIN:VEVENT
DTSTART;VALUE=DATE:20240921
DTEND;VALUE=DATE:20240922
DTSTAMP:20260421T201716
CREATED:20240415T162951Z
LAST-MODIFIED:20240415T163032Z
UID:2545-1726876800-1726963199@salinkaankartano.fi
SUMMARY:Torpparihulinat 21.9.2024
DESCRIPTION:Perinteiset Torpparihulinat järjestetään Sälinkään Kartanon alueella lauantaina 21.9. Pihatorilla kaikenlaista maalaishenkeen sopivaa myyntiä\, ohjelmaa\, tapahtumaa yms. Päivitämme tänne tapahtumasivulle kun ohjelma tarkentuu. \nTervetuloa! \nJos olet kiinnostunut myyntipisteestä tai osallistumisesta tapahtuman järjestelyihin muutoin\, ota yhteyttä: info@salinkaankartano.fi
URL:https://salinkaankartano.fi/tapahtumat/torpparihulinat-21-9-2024/
LOCATION:Sälinkään Kartano\, Kartanontie 20\, Sälinkää (Mäntsälä)
CATEGORIES:Avoimet tapahtumat Sälinkään kartanolla
ORGANIZER;CN="S%C3%A4link%C3%A4%C3%A4n Kartano / S%C3%A4link%C3%A4%C3%A4n Kartanoseura ry":MAILTO:info@salinkaankartano.fi
END:VEVENT
END:VCALENDAR