BEGIN:VCALENDAR
VERSION:2.0
PRODID:-//Sälinkään kartanoseura ry. - ECPv6.15.20//NONSGML v1.0//EN
CALSCALE:GREGORIAN
METHOD:PUBLISH
X-WR-CALNAME:Sälinkään kartanoseura ry.
X-ORIGINAL-URL:https://salinkaankartano.fi
X-WR-CALDESC:Tapahtumat Sälinkään kartanoseura ry.
REFRESH-INTERVAL;VALUE=DURATION:PT1H
X-Robots-Tag:noindex
X-PUBLISHED-TTL:PT1H
BEGIN:VTIMEZONE
TZID:Europe/Helsinki
BEGIN:DAYLIGHT
TZOFFSETFROM:+0200
TZOFFSETTO:+0300
TZNAME:EEST
DTSTART:20220327T010000
END:DAYLIGHT
BEGIN:STANDARD
TZOFFSETFROM:+0300
TZOFFSETTO:+0200
TZNAME:EET
DTSTART:20221030T010000
END:STANDARD
BEGIN:DAYLIGHT
TZOFFSETFROM:+0200
TZOFFSETTO:+0300
TZNAME:EEST
DTSTART:20230326T010000
END:DAYLIGHT
BEGIN:STANDARD
TZOFFSETFROM:+0300
TZOFFSETTO:+0200
TZNAME:EET
DTSTART:20231029T010000
END:STANDARD
BEGIN:DAYLIGHT
TZOFFSETFROM:+0200
TZOFFSETTO:+0300
TZNAME:EEST
DTSTART:20240331T010000
END:DAYLIGHT
BEGIN:STANDARD
TZOFFSETFROM:+0300
TZOFFSETTO:+0200
TZNAME:EET
DTSTART:20241027T010000
END:STANDARD
END:VTIMEZONE
BEGIN:VEVENT
DTSTART;TZID=Europe/Helsinki:20230113T190000
DTEND;TZID=Europe/Helsinki:20230114T003000
DTSTAMP:20260423T175048
CREATED:20221110T154326Z
LAST-MODIFIED:20221110T155459Z
UID:2444-1673636400-1673656200@salinkaankartano.fi
SUMMARY:Kartano Live: Cotton Road Blues Band
DESCRIPTION:Tule rentoutumaan ja kuuntelemaan Cotton Road Blues Bandiä! Kartanon baari auki ja bändi soittaa parhaimpiaan. Hyvää musiikkia ja tunnelmaa. \nLiput ovelta 10 €
URL:https://salinkaankartano.fi/tapahtumat/kartano-live-cotton-road-blues-band/
LOCATION:Sälinkään Kartano\, Kartanontie 20\, Sälinkää (Mäntsälä)
CATEGORIES:Avoimet tapahtumat Sälinkään kartanolla
ATTACH;FMTTYPE=image/jpeg:https://salinkaankartano.fi/wordpress/wp-content/uploads/Guitar_smoke.jpg
ORGANIZER;CN="S%C3%A4link%C3%A4%C3%A4n Kartano / S%C3%A4link%C3%A4%C3%A4n Kartanoseura ry":MAILTO:info@salinkaankartano.fi
END:VEVENT
END:VCALENDAR